BEGIN:VCALENDAR
VERSION:2.0
PRODID:-//Le Poste (BXL) - ECPv6.15.11//NONSGML v1.0//EN
CALSCALE:GREGORIAN
METHOD:PUBLISH
X-ORIGINAL-URL:https://leposte.brussels
X-WR-CALDESC:Évènements pour Le Poste (BXL)
REFRESH-INTERVAL;VALUE=DURATION:PT1H
X-Robots-Tag:noindex
X-PUBLISHED-TTL:PT1H
BEGIN:VTIMEZONE
TZID:Europe/Paris
BEGIN:DAYLIGHT
TZOFFSETFROM:+0100
TZOFFSETTO:+0200
TZNAME:CEST
DTSTART:20240331T010000
END:DAYLIGHT
BEGIN:STANDARD
TZOFFSETFROM:+0200
TZOFFSETTO:+0100
TZNAME:CET
DTSTART:20241027T010000
END:STANDARD
BEGIN:DAYLIGHT
TZOFFSETFROM:+0100
TZOFFSETTO:+0200
TZNAME:CEST
DTSTART:20250330T010000
END:DAYLIGHT
BEGIN:STANDARD
TZOFFSETFROM:+0200
TZOFFSETTO:+0100
TZNAME:CET
DTSTART:20251026T010000
END:STANDARD
BEGIN:DAYLIGHT
TZOFFSETFROM:+0100
TZOFFSETTO:+0200
TZNAME:CEST
DTSTART:20260329T010000
END:DAYLIGHT
BEGIN:STANDARD
TZOFFSETFROM:+0200
TZOFFSETTO:+0100
TZNAME:CET
DTSTART:20261025T010000
END:STANDARD
END:VTIMEZONE
BEGIN:VTIMEZONE
TZID:Europe/Brussels
BEGIN:DAYLIGHT
TZOFFSETFROM:+0100
TZOFFSETTO:+0200
TZNAME:CEST
DTSTART:20240331T010000
END:DAYLIGHT
BEGIN:STANDARD
TZOFFSETFROM:+0200
TZOFFSETTO:+0100
TZNAME:CET
DTSTART:20241027T010000
END:STANDARD
BEGIN:DAYLIGHT
TZOFFSETFROM:+0100
TZOFFSETTO:+0200
TZNAME:CEST
DTSTART:20250330T010000
END:DAYLIGHT
BEGIN:STANDARD
TZOFFSETFROM:+0200
TZOFFSETTO:+0100
TZNAME:CET
DTSTART:20251026T010000
END:STANDARD
BEGIN:DAYLIGHT
TZOFFSETFROM:+0100
TZOFFSETTO:+0200
TZNAME:CEST
DTSTART:20260329T010000
END:DAYLIGHT
BEGIN:STANDARD
TZOFFSETFROM:+0200
TZOFFSETTO:+0100
TZNAME:CET
DTSTART:20261025T010000
END:STANDARD
END:VTIMEZONE
BEGIN:VEVENT
DTSTART;TZID=Europe/Paris:20251009T180000
DTEND;TZID=Europe/Paris:20251109T233000
DTSTAMP:20260419T165914
CREATED:20251008T090222Z
LAST-MODIFIED:20251008T090732Z
UID:373-1760032800-1762731000@leposte.brussels
SUMMARY:Exposition - « Surrounded by Criminals » de Nicolas Wieërs
DESCRIPTION:Du 9 octobre au 9 novembre 2025\, découvrez l’exposition photo « Surrounded by Criminals » de Nicolas Wieërs qui vous invite à plonger dans l’univers méconnu des Vory v Zakone\, les « voleurs dans la loi » de l’ex-Union soviétique. \nÀ travers leurs corps tatoués\, l’exposition révèle les parcours et récits de ces hommes marginalisés dans six lieux atypiques de Bruxelles. Plus d’information ici. \n\nEntrée libre les jeudis & vendredis : 18h-minuit // Week-ends : 11h-18h\nCrédits photo : Nicolas Wieërs\, David Vannucci
URL:https://leposte.brussels/event/exposition-surrounded-by-criminals-de-nicolas-wieers/
LOCATION:Le Poste\, Place du Jeu de Balle 62\, Bruxelles\, 1000\, Belgium
CATEGORIES:Exposition
ATTACH;FMTTYPE=image/png:https://leposte.brussels/wp-content/uploads/2025/10/u4-des-expositions-photos-pour-balkan-trafik.png
END:VEVENT
BEGIN:VEVENT
DTSTART;TZID=Europe/Brussels:20251106T210000
DTEND;TZID=Europe/Brussels:20251106T233000
DTSTAMP:20260419T165914
CREATED:20251030T124041Z
LAST-MODIFIED:20251103T092648Z
UID:440-1762462800-1762471800@leposte.brussels
SUMMARY:Concert & Jam – SOME TRIO
DESCRIPTION:Ce jeudi 06 Novembre à 21h00 nous vous invitons à un concert de Matteo Devidrums\, suivi d’une jam session.\n\n\nConcert à 21h00\nJam de 22h à 00h\nEntrée libre
URL:https://leposte.brussels/event/concert-jam-some-trio/
LOCATION:Le Poste\, Place du Jeu de Balle 62\, Bruxelles\, 1000\, Belgium
CATEGORIES:Concert
ORGANIZER;CN="Le Poste":MAILTO:contact@leposte.brussels
END:VEVENT
BEGIN:VEVENT
DTSTART;TZID=Europe/Paris:20251107T210000
DTEND;TZID=Europe/Paris:20251107T233000
DTSTAMP:20260419T165914
CREATED:20251030T124454Z
LAST-MODIFIED:20251103T092804Z
UID:443-1762549200-1762558200@leposte.brussels
SUMMARY:Concert & Jam – MOSES YOOFEE TRIBUTE
DESCRIPTION:Ce vendredi 07 Novembre à 21h00 nous vous invitons à un concert de Gaspard Loncke\, suivi d’une jam session.\n\n\nConcert à 21h00\nJam de 22h à 00h\nEntrée libre
URL:https://leposte.brussels/event/concert-jam-gaspard-loncke/
LOCATION:Le Poste\, Place du Jeu de Balle 62\, Bruxelles\, 1000\, Belgium
CATEGORIES:Concert
ORGANIZER;CN="Le Poste":MAILTO:contact@leposte.brussels
END:VEVENT
BEGIN:VEVENT
DTSTART;TZID=Europe/Paris:20251109T170000
DTEND;TZID=Europe/Paris:20251109T220000
DTSTAMP:20260419T165914
CREATED:20251103T093127Z
LAST-MODIFIED:20251103T093221Z
UID:469-1762707600-1762725600@leposte.brussels
SUMMARY:Concert & Jam – JAM CONFITURE
DESCRIPTION:Ce dimanche 09 Novembre à 17h00 nous vous invitons à une jam de Jam Confiture.\n\nJam de 17h à 22h\nEntrée libre
URL:https://leposte.brussels/event/469/
LOCATION:Le Poste\, Place du Jeu de Balle 62\, Bruxelles\, 1000\, Belgium
CATEGORIES:Concert
ORGANIZER;CN="Le Poste":MAILTO:contact@leposte.brussels
END:VEVENT
BEGIN:VEVENT
DTSTART;TZID=Europe/Paris:20251113T210000
DTEND;TZID=Europe/Paris:20251113T233000
DTSTAMP:20260419T165914
CREATED:20251030T125011Z
LAST-MODIFIED:20251030T125713Z
UID:445-1763067600-1763076600@leposte.brussels
SUMMARY:Concert & Jam – I DON’T CLEAN THE HOUSE !
DESCRIPTION:Ce jeudi 13 Novembre à 21h00 nous vous invitons à un concert de I don’t clean the house !\, suivi d’une jam session.\n\n\nConcert à 21h00\nJam de 22h à 00h\nEntrée libre
URL:https://leposte.brussels/event/concert-jam-i-dont-clean-the-house/
LOCATION:Le Poste\, Place du Jeu de Balle 62\, Bruxelles\, 1000\, Belgium
CATEGORIES:Concert
ORGANIZER;CN="Le Poste":MAILTO:contact@leposte.brussels
END:VEVENT
BEGIN:VEVENT
DTSTART;TZID=Europe/Paris:20251114T210000
DTEND;TZID=Europe/Paris:20251114T233000
DTSTAMP:20260419T165914
CREATED:20251030T125902Z
LAST-MODIFIED:20251030T125902Z
UID:451-1763154000-1763163000@leposte.brussels
SUMMARY:Concert & Jam – DAENSE
DESCRIPTION:Ce vendredi 14 Novembre à 21h00 nous vous invitons à un concert de Daense\, suivi d’une jam session.\n\n\nConcert à 21h00\nJam de 22h à 00h\nEntrée libre
URL:https://leposte.brussels/event/concert-jam-daense/
LOCATION:Le Poste\, Place du Jeu de Balle 62\, Bruxelles\, 1000\, Belgium
CATEGORIES:Concert
ORGANIZER;CN="Le Poste":MAILTO:contact@leposte.brussels
END:VEVENT
BEGIN:VEVENT
DTSTART;TZID=Europe/Paris:20251120T210000
DTEND;TZID=Europe/Paris:20251120T233000
DTSTAMP:20260419T165914
CREATED:20251030T130110Z
LAST-MODIFIED:20251103T092835Z
UID:453-1763672400-1763681400@leposte.brussels
SUMMARY:Concert & Jam – NAN
DESCRIPTION:Ce jeudi 20 Novembre à 21h00 nous vous invitons à un concert de Danny\, suivi d’une jam session.\n\n\nConcert à 21h00\nJam de 22h à 00h\nEntrée libre
URL:https://leposte.brussels/event/concert-jam-danny/
LOCATION:Le Poste\, Place du Jeu de Balle 62\, Bruxelles\, 1000\, Belgium
CATEGORIES:Concert
ORGANIZER;CN="Le Poste":MAILTO:contact@leposte.brussels
END:VEVENT
BEGIN:VEVENT
DTSTART;TZID=Europe/Paris:20251121T210000
DTEND;TZID=Europe/Paris:20251121T233000
DTSTAMP:20260419T165914
CREATED:20251030T130259Z
LAST-MODIFIED:20251030T130259Z
UID:455-1763758800-1763767800@leposte.brussels
SUMMARY:Concert & Jam – IGNITE QUINTET
DESCRIPTION:Ce vendredi 21 Novembre à 21h00 nous vous invitons à un concert de Ignite Quintet\, suivi d’une jam session.\n\n\nConcert à 21h00\nJam de 22h à 00h\nEntrée libre
URL:https://leposte.brussels/event/concert-jam-ignite-quintet/
LOCATION:Le Poste\, Place du Jeu de Balle 62\, Bruxelles\, 1000\, Belgium
CATEGORIES:Concert
ORGANIZER;CN="Le Poste":MAILTO:contact@leposte.brussels
END:VEVENT
BEGIN:VEVENT
DTSTART;TZID=Europe/Paris:20251127T210000
DTEND;TZID=Europe/Paris:20251127T233000
DTSTAMP:20260419T165914
CREATED:20251030T130453Z
LAST-MODIFIED:20251030T130459Z
UID:457-1764277200-1764286200@leposte.brussels
SUMMARY:Concert & Jam – NATHAN
DESCRIPTION:Ce jeudi 27 Novembre à 21h00 nous vous invitons à un concert de Nathan\, suivi d’une jam session.\n\n\nConcert à 21h00\nJam de 22h à 00h\nEntrée libre
URL:https://leposte.brussels/event/concert-jam-nathan/
LOCATION:Le Poste\, Place du Jeu de Balle 62\, Bruxelles\, 1000\, Belgium
CATEGORIES:Concert
ORGANIZER;CN="Le Poste":MAILTO:contact@leposte.brussels
END:VEVENT
BEGIN:VEVENT
DTSTART;TZID=Europe/Paris:20251128T210000
DTEND;TZID=Europe/Paris:20251128T233000
DTSTAMP:20260419T165914
CREATED:20251030T130641Z
LAST-MODIFIED:20251103T092903Z
UID:460-1764363600-1764372600@leposte.brussels
SUMMARY:Concert & Jam – MARIUS RABBE QUARTET
DESCRIPTION:Ce vendredi 28 Novembre à 21h00 nous vous invitons à un concert de Kuan Yu\, suivi d’une jam session.\n\n\nConcert à 21h00\nJam de 22h à 00h\nEntrée libre
URL:https://leposte.brussels/event/concert-jam-kuan-yu/
LOCATION:Le Poste\, Place du Jeu de Balle 62\, Bruxelles\, 1000\, Belgium
CATEGORIES:Concert
ORGANIZER;CN="Le Poste":MAILTO:contact@leposte.brussels
END:VEVENT
END:VCALENDAR