BEGIN:VCALENDAR
VERSION:2.0
PRODID:-//Le Poste (BXL) - ECPv6.15.11//NONSGML v1.0//EN
CALSCALE:GREGORIAN
METHOD:PUBLISH
X-WR-CALNAME:Le Poste (BXL)
X-ORIGINAL-URL:https://leposte.brussels
X-WR-CALDESC:Évènements pour Le Poste (BXL)
REFRESH-INTERVAL;VALUE=DURATION:PT1H
X-Robots-Tag:noindex
X-PUBLISHED-TTL:PT1H
BEGIN:VTIMEZONE
TZID:Europe/Paris
BEGIN:DAYLIGHT
TZOFFSETFROM:+0100
TZOFFSETTO:+0200
TZNAME:CEST
DTSTART:20250330T010000
END:DAYLIGHT
BEGIN:STANDARD
TZOFFSETFROM:+0200
TZOFFSETTO:+0100
TZNAME:CET
DTSTART:20251026T010000
END:STANDARD
BEGIN:DAYLIGHT
TZOFFSETFROM:+0100
TZOFFSETTO:+0200
TZNAME:CEST
DTSTART:20260329T010000
END:DAYLIGHT
BEGIN:STANDARD
TZOFFSETFROM:+0200
TZOFFSETTO:+0100
TZNAME:CET
DTSTART:20261025T010000
END:STANDARD
BEGIN:DAYLIGHT
TZOFFSETFROM:+0100
TZOFFSETTO:+0200
TZNAME:CEST
DTSTART:20270328T010000
END:DAYLIGHT
BEGIN:STANDARD
TZOFFSETFROM:+0200
TZOFFSETTO:+0100
TZNAME:CET
DTSTART:20271031T010000
END:STANDARD
END:VTIMEZONE
BEGIN:VEVENT
DTSTART;TZID=Europe/Paris:20260419T160000
DTEND;TZID=Europe/Paris:20260419T220000
DTSTAMP:20260419T181638
CREATED:20260401T114448Z
LAST-MODIFIED:20260401T114448Z
UID:702-1776614400-1776636000@leposte.brussels
SUMMARY:JAM BRÉSILIENNE
DESCRIPTION:Les jams brésiliennes c’est un dimanche sur deux\, de 13h à 18h \nDes concerts\, de la danse et de la fête !
URL:https://leposte.brussels/event/jam-bresilienne-2/
LOCATION:Le Poste\, Place du Jeu de Balle 62\, Bruxelles\, 1000\, Belgium
CATEGORIES:Concert
END:VEVENT
END:VCALENDAR